BEGIN:VCALENDAR
VERSION:2.0
PRODID:-//Intand Corporation//Tandem//EN
METHOD:PUBLISH
BEGIN:VEVENT
DTSTAMP:20260422T214548Z
DTSTART;VALUE=DATE:20191025
DTEND;VALUE=DATE:20191026
TRANSP:TRANSPARENT
PRIORITY:0
SUMMARY:NO SCHOOL FOR STUDENTS
LOCATION:Maple Dale School\, Indian Hill School
DESCRIPTION:Groups:\nDistrict Families\nNon-District Families\n\nSchools:\
 nMDIH School District\nMaple Dale School\nIndian Hill School\n\nLocations:
 \nMaple Dale School\nIndian Hill School\n\n
URL;VALUE=URI:https://mapledaleindianhill.tandem.co/index.php?type=view&ac
 tion=event&id=13783
CREATED:20190226T184734Z
LAST-MODIFIED:20190524T194521Z
UID:event-13783-mapledaleindianhill@intand.com
END:VEVENT
END:VCALENDAR
