BEGIN:VCALENDAR
VERSION:2.0
PRODID:-//Intand Corporation//Tandem//EN
METHOD:PUBLISH
BEGIN:VEVENT
DTSTAMP:20260422T220426Z
DTSTART;VALUE=DATE:20191225
DTEND;VALUE=DATE:20191226
TRANSP:TRANSPARENT
PRIORITY:0
SUMMARY:WINTER BREAK
LOCATION:Maple Dale-indian Hill
DESCRIPTION:Groups:\nDistrict Families\n\nLocation:\nMaple Dale-indian Hil
 l\n\n
URL;VALUE=URI:https://mapledaleindianhill.tandem.co/index.php?type=view&ac
 tion=event&id=13790
CREATED:20190226T185128Z
LAST-MODIFIED:20190827T175026Z
UID:event-13790-mapledaleindianhill@intand.com
END:VEVENT
END:VCALENDAR
