BEGIN:VCALENDAR
VERSION:2.0
PRODID:-//Intand Corporation//Tandem//EN
METHOD:PUBLISH
BEGIN:VEVENT
DTSTAMP:20260422T214548Z
DTSTART:20191119T003000Z
DTEND:20191119T023000Z
TRANSP:TRANSPARENT
PRIORITY:0
SUMMARY:PTO Meeting
LOCATION:Maple Dale Board Room
DESCRIPTION:Groups:\nPTO\n\nSchools:\nMaple Dale School\nIndian Hill Schoo
 l\n\nLocation:\nMaple Dale Board Room\n\n
URL;VALUE=URI:https://mapledaleindianhill.tandem.co/index.php?type=view&ac
 tion=event&id=14546
CREATED:20190819T173042Z
LAST-MODIFIED:20190819T173042Z
UID:event-14546-mapledaleindianhill@intand.com
END:VEVENT
END:VCALENDAR
