BEGIN:VCALENDAR
VERSION:2.0
PRODID:-//Intand Corporation//Tandem//EN
METHOD:PUBLISH
BEGIN:VEVENT
DTSTAMP:20260422T220450Z
DTSTART:20191114T214500Z
DTEND:20191114T230000Z
TRANSP:TRANSPARENT
PRIORITY:0
SUMMARY:Girls Basketball (7th Grade) Practice
LOCATION:Maple Dale Gymnasium
DESCRIPTION:Groups:\nMaple Dale School 7th Grade Girls Basketball\n\nSchoo
 ls:\nMaple Dale School\n\nLocation:\nMaple Dale Gymnasium\n\n
URL;VALUE=URI:https://mapledaleindianhill.tandem.co/index.php?type=view&ac
 tion=event&id=15004
CREATED:20191008T145425Z
LAST-MODIFIED:20191008T145425Z
UID:event-15004-mapledaleindianhill@intand.com
END:VEVENT
END:VCALENDAR
