BEGIN:VCALENDAR
VERSION:2.0
PRODID:-//Intand Corporation//Tandem//EN
METHOD:PUBLISH
BEGIN:VEVENT
DTSTAMP:20260422T215516Z
DTSTART:20260504T210000Z
DTEND:20260504T221500Z
TRANSP:TRANSPARENT
PRIORITY:0
SUMMARY:Lego League
LOCATION:Indian Hill Art Room
DESCRIPTION:Groups:\nNicolet Recreation Department\n\nSchools:\nIndian Hil
 l School\n\nLocation:\nIndian Hill Art Room\n\n
URL;VALUE=URI:https://mapledaleindianhill.tandem.co/index.php?type=view&ac
 tion=event&id=19455
CREATED:20251106T201128Z
LAST-MODIFIED:20251216T231753Z
UID:facility_rental-19455-mapledaleindianhill@intand.com
END:VEVENT
END:VCALENDAR
